BEGIN:VCALENDAR
VERSION:2.0
PRODID:-//Agasca e.V. - ECPv6.15.12.2//NONSGML v1.0//EN
CALSCALE:GREGORIAN
METHOD:PUBLISH
X-WR-CALNAME:Agasca e.V.
X-ORIGINAL-URL:https://agasca.com
X-WR-CALDESC:Veranstaltungen für Agasca e.V.
REFRESH-INTERVAL;VALUE=DURATION:PT1H
X-Robots-Tag:noindex
X-PUBLISHED-TTL:PT1H
BEGIN:VTIMEZONE
TZID:Europe/Helsinki
BEGIN:DAYLIGHT
TZOFFSETFROM:+0200
TZOFFSETTO:+0300
TZNAME:EEST
DTSTART:20140330T010000
END:DAYLIGHT
BEGIN:STANDARD
TZOFFSETFROM:+0300
TZOFFSETTO:+0200
TZNAME:EET
DTSTART:20141026T010000
END:STANDARD
BEGIN:DAYLIGHT
TZOFFSETFROM:+0200
TZOFFSETTO:+0300
TZNAME:EEST
DTSTART:20150329T010000
END:DAYLIGHT
BEGIN:STANDARD
TZOFFSETFROM:+0300
TZOFFSETTO:+0200
TZNAME:EET
DTSTART:20151025T010000
END:STANDARD
BEGIN:DAYLIGHT
TZOFFSETFROM:+0200
TZOFFSETTO:+0300
TZNAME:EEST
DTSTART:20160327T010000
END:DAYLIGHT
BEGIN:STANDARD
TZOFFSETFROM:+0300
TZOFFSETTO:+0200
TZNAME:EET
DTSTART:20161030T010000
END:STANDARD
END:VTIMEZONE
BEGIN:VEVENT
DTSTART;TZID=Europe/Helsinki:20150704T140000
DTEND;TZID=Europe/Helsinki:20150704T183000
DTSTAMP:20260426T035917
CREATED:20150623T144659Z
LAST-MODIFIED:20150623T144659Z
UID:1173-1436018400-1436034600@agasca.com
SUMMARY:FiDo 2015 – Vorrunde 4. Juli
DESCRIPTION:[table “7” not found /]
URL:https://agasca.com/veranstaltungen/fido-2015-vorrunde-4-juli/
LOCATION:Bummelberg (SC Dorstfeld 09)\, Bezirkssportanlage Bumelberg Bumelberg\, Dortmund\,  44149\, Deutschland
CATEGORIES:Fußball
ORGANIZER;CN="Agasca e.V.":MAILTO:info@agasca.com
END:VEVENT
BEGIN:VEVENT
DTSTART;TZID=Europe/Helsinki:20150705T140000
DTEND;TZID=Europe/Helsinki:20150705T183000
DTSTAMP:20260426T035917
CREATED:20150623T145152Z
LAST-MODIFIED:20150623T145152Z
UID:1178-1436104800-1436121000@agasca.com
SUMMARY:FiDo 2015 – Vorrunde 5. Juli
DESCRIPTION:[table “8” not found /]
URL:https://agasca.com/veranstaltungen/fido-2015-vorrunde-5-juli/
LOCATION:Bummelberg (SC Dorstfeld 09)\, Bezirkssportanlage Bumelberg Bumelberg\, Dortmund\, 44149\, Deutschland
CATEGORIES:Fußball
ORGANIZER;CN="Agasca e.V.":MAILTO:info@agasca.com
END:VEVENT
BEGIN:VEVENT
DTSTART;TZID=Europe/Helsinki:20150711T140000
DTEND;TZID=Europe/Helsinki:20150711T183000
DTSTAMP:20260426T035917
CREATED:20150623T145515Z
LAST-MODIFIED:20150623T145810Z
UID:1179-1436623200-1436639400@agasca.com
SUMMARY:FiDo 2015 – Vorrunde 11. Juli
DESCRIPTION:[table “9” not found /]
URL:https://agasca.com/veranstaltungen/fido-2015-vorrunde-11-juli/
LOCATION:Schumannstraße (FC Merkur 07)\, Schumannstraße 5A\, Dortmund\, 44145\, Deutschland
CATEGORIES:Fußball
ORGANIZER;CN="Agasca e.V.":MAILTO:info@agasca.com
END:VEVENT
BEGIN:VEVENT
DTSTART;TZID=Europe/Helsinki:20150712T140000
DTEND;TZID=Europe/Helsinki:20150712T183000
DTSTAMP:20260426T035917
CREATED:20150623T145741Z
LAST-MODIFIED:20150623T145741Z
UID:1180-1436709600-1436725800@agasca.com
SUMMARY:FiDo 2015 - Vorrunde 12.07.
DESCRIPTION:[table “9” not found /]
URL:https://agasca.com/veranstaltungen/fido-2015-vorrunde-12-07/
LOCATION:Schumannstraße (FC Merkur 07)\, Schumannstraße 5A\, Dortmund\, 44145\, Deutschland
CATEGORIES:Fußball
ORGANIZER;CN="Agasca e.V.":MAILTO:info@agasca.com
END:VEVENT
BEGIN:VEVENT
DTSTART;TZID=Europe/Helsinki:20150719T140000
DTEND;TZID=Europe/Helsinki:20150719T183000
DTSTAMP:20260426T035917
CREATED:20150623T150044Z
LAST-MODIFIED:20150716T112938Z
UID:1181-1437314400-1437330600@agasca.com
SUMMARY:FiDo 2015 - Halbfinale 19.07.
DESCRIPTION:[table “11” not found /]
URL:https://agasca.com/veranstaltungen/fido-2015-halbfinale-19-07/
LOCATION:Schumannstraße (FC Merkur 07)\, Schumannstraße 5A\, Dortmund\, 44145\, Deutschland
CATEGORIES:Fußball
ORGANIZER;CN="Agasca e.V.":MAILTO:info@agasca.com
END:VEVENT
BEGIN:VEVENT
DTSTART;TZID=Europe/Helsinki:20150726T140000
DTEND;TZID=Europe/Helsinki:20150726T183000
DTSTAMP:20260426T035917
CREATED:20150623T150347Z
LAST-MODIFIED:20150623T150347Z
UID:1182-1437919200-1437935400@agasca.com
SUMMARY:FiDo 2015 - 3. Platz / Finale 26.07
DESCRIPTION:[table “12” not found /]\n\nPreisverleihung ab 19 Uhr und Abschlussfeier
URL:https://agasca.com/veranstaltungen/fido-2015-3-platz-finale-26-07/
LOCATION:Schumannstraße (FC Merkur 07)\, Schumannstraße 5A\, Dortmund\, 44145\, Deutschland
CATEGORIES:Fußball
ORGANIZER;CN="Agasca e.V.":MAILTO:info@agasca.com
END:VEVENT
END:VCALENDAR